BEGIN:VCALENDAR
VERSION:2.0
PRODID:-//Afrik Rire - ECPv6.15.20//NONSGML v1.0//EN
CALSCALE:GREGORIAN
METHOD:PUBLISH
X-ORIGINAL-URL:https://afrik-rire.com
X-WR-CALDESC:Évènements pour Afrik Rire
REFRESH-INTERVAL;VALUE=DURATION:PT1H
X-Robots-Tag:noindex
X-PUBLISHED-TTL:PT1H
BEGIN:VTIMEZONE
TZID:Europe/Paris
BEGIN:DAYLIGHT
TZOFFSETFROM:+0100
TZOFFSETTO:+0200
TZNAME:CEST
DTSTART:20220327T010000
END:DAYLIGHT
BEGIN:STANDARD
TZOFFSETFROM:+0200
TZOFFSETTO:+0100
TZNAME:CET
DTSTART:20221030T010000
END:STANDARD
BEGIN:DAYLIGHT
TZOFFSETFROM:+0100
TZOFFSETTO:+0200
TZNAME:CEST
DTSTART:20230326T010000
END:DAYLIGHT
BEGIN:STANDARD
TZOFFSETFROM:+0200
TZOFFSETTO:+0100
TZNAME:CET
DTSTART:20231029T010000
END:STANDARD
BEGIN:DAYLIGHT
TZOFFSETFROM:+0100
TZOFFSETTO:+0200
TZNAME:CEST
DTSTART:20240331T010000
END:DAYLIGHT
BEGIN:STANDARD
TZOFFSETFROM:+0200
TZOFFSETTO:+0100
TZNAME:CET
DTSTART:20241027T010000
END:STANDARD
BEGIN:DAYLIGHT
TZOFFSETFROM:+0100
TZOFFSETTO:+0200
TZNAME:CEST
DTSTART:20250330T010000
END:DAYLIGHT
BEGIN:STANDARD
TZOFFSETFROM:+0200
TZOFFSETTO:+0100
TZNAME:CET
DTSTART:20251026T010000
END:STANDARD
BEGIN:DAYLIGHT
TZOFFSETFROM:+0100
TZOFFSETTO:+0200
TZNAME:CEST
DTSTART:20260329T010000
END:DAYLIGHT
BEGIN:STANDARD
TZOFFSETFROM:+0200
TZOFFSETTO:+0100
TZNAME:CET
DTSTART:20261025T010000
END:STANDARD
END:VTIMEZONE
BEGIN:VTIMEZONE
TZID:UTC
BEGIN:STANDARD
TZOFFSETFROM:+0000
TZOFFSETTO:+0000
TZNAME:UTC
DTSTART:20230101T000000
END:STANDARD
END:VTIMEZONE
BEGIN:VEVENT
DTSTART;TZID=Europe/Paris:20251003T190000
DTEND;TZID=Europe/Paris:20251004T230000
DTSTAMP:20260423T121642
CREATED:20250126T161957Z
LAST-MODIFIED:20250126T162040Z
UID:2340-1759518000-1759618800@afrik-rire.com
SUMMARY:7ème édition 2025
DESCRIPTION:
URL:https://afrik-rire.com/event/afrik-rire-festival-7eme-edition/
LOCATION:Centre des Arts de l’Ecole International de Génève Rte de chême 62-1208 Génève\, Rte de chêne 62-1208 Génève\, Génèves\, Suisse
CATEGORIES:2025
END:VEVENT
BEGIN:VEVENT
DTSTART;TZID=UTC:20241228T090000
DTEND;TZID=UTC:20241228T150000
DTSTAMP:20260423T121642
CREATED:20230505T165610Z
LAST-MODIFIED:20230505T165610Z
UID:914-1735376400-1735398000@afrik-rire.com
SUMMARY:Registration For Opening Workshop
DESCRIPTION:Dolor sit amet consectetur elit sed do eiusmod tempor incd idunt labore et dolore magna aliqua enim ad minim veniam quis nostrud exercitation ullamco laboris nisi ut aliquip exea commodo consequat.duis aute irure dolor in repre hen derit in voluptate velit esse cillum dolore eu fugiat nulla pariatur cepteur sint occaecat cupidatat eaque ipsa quae illo proident sunt in culpa qui officia deserunt mollit anim id est laborum perspiciatis unde omnis iste natus error sit voluptatem accusantium dolore laudant rem aperiam eaque ipsa quae ab illo inventore veritatis quasi architecto. \nDolor sit amet consectetur elit sed do eiusmod tempor incd idunt labore et dolore magna aliqua enim ad minim veniam quis nostrud exercitation ullamco laboris nisi ut aliquip exea commodo consequat.duis aute irure dolor in reprehen derit in voluptate velit esse cillum dolore eu fugiat nulla pariatur cepteur sint occaecat cupidatat. \nEvolution of user Interface\n\nMultiple Announcements during the event.\nLogo & company details on the WordCamp Kolkata.\nDedicated blog post thanking each of our Gold.\nAcknowledgment and thanks in opening and closing.\n\nDolor sit amet consectetur elit sed do eiusmod tempor incd idunt labore et dolore magna aliqua enim ad minim veniam quis nostrud exercitation ullamco laboris nisi ut aliquip exea commodo consequat.duis aute irure dolor in repre hen derit in voluptate velit esse cillum dolore eu fugiat nulla pariatur cepteur sint occaecat cupidatat eaque ipsa quae illo proident sunt in culpa qui officia deserunt mollit anim id est laborum perspiciatis unde omnis iste natus error sit voluptatem accusantium dolore laudant rem aperiam eaque ipsa quae ab illo inventore veritatis quasi architecto.
URL:https://afrik-rire.com/event/registration-for-opening-workshop-2/
CATEGORIES:Our Events
ATTACH;FMTTYPE=image/jpeg:https://afrik-rire.com/wp-content/uploads/2023/05/event.jpg
END:VEVENT
BEGIN:VEVENT
DTSTART;TZID=UTC:20241225T100000
DTEND;TZID=UTC:20241225T123000
DTSTAMP:20260423T121642
CREATED:20230504T182040Z
LAST-MODIFIED:20230504T182040Z
UID:485-1735120800-1735129800@afrik-rire.com
SUMMARY:Modern Marketing Summit Sydney
DESCRIPTION:Dolor sit amet consectetur elit sed do eiusmod tempor incd idunt labore et dolore magna aliqua enim ad minim veniam quis nostrud exercitation ullamco laboris nisi ut aliquip exea commodo consequat.duis aute irure dolor in repre hen derit in voluptate velit esse cillum dolore eu fugiat nulla pariatur cepteur sint occaecat cupidatat eaque ipsa quae illo proident sunt in culpa qui officia deserunt mollit anim id est laborum perspiciatis unde omnis iste natus error sit voluptatem accusantium dolore laudant rem aperiam eaque ipsa quae ab illo inventore veritatis quasi architecto. \nDolor sit amet consectetur elit sed do eiusmod tempor incd idunt labore et dolore magna aliqua enim ad minim veniam quis nostrud exercitation ullamco laboris nisi ut aliquip exea commodo consequat.duis aute irure dolor in reprehen derit in voluptate velit esse cillum dolore eu fugiat nulla pariatur cepteur sint occaecat cupidatat. \nEvolution of user Interface\n\nMultiple Announcements during the event.\nLogo & company details on the WordCamp Kolkata.\nDedicated blog post thanking each of our Gold.\nAcknowledgment and thanks in opening and closing.\n\nDolor sit amet consectetur elit sed do eiusmod tempor incd idunt labore et dolore magna aliqua enim ad minim veniam quis nostrud exercitation ullamco laboris nisi ut aliquip exea commodo consequat.duis aute irure dolor in repre hen derit in voluptate velit esse cillum dolore eu fugiat nulla pariatur cepteur sint occaecat cupidatat eaque ipsa quae illo proident sunt in culpa qui officia deserunt mollit anim id est laborum perspiciatis unde omnis iste natus error sit voluptatem accusantium dolore laudant rem aperiam eaque ipsa quae ab illo inventore veritatis quasi architecto.
URL:https://afrik-rire.com/event/modern-marketing-summit-sydney/
CATEGORIES:Our Events
ATTACH;FMTTYPE=image/jpeg:https://afrik-rire.com/wp-content/uploads/2023/05/event.jpg
END:VEVENT
BEGIN:VEVENT
DTSTART;TZID=UTC:20241221T100000
DTEND;TZID=UTC:20241225T123000
DTSTAMP:20260423T121642
CREATED:20230505T165631Z
LAST-MODIFIED:20230505T165631Z
UID:915-1734775200-1735129800@afrik-rire.com
SUMMARY:Modern Marketing Summit Sydney
DESCRIPTION:Dolor sit amet consectetur elit sed do eiusmod tempor incd idunt labore et dolore magna aliqua enim ad minim veniam quis nostrud exercitation ullamco laboris nisi ut aliquip exea commodo consequat.duis aute irure dolor in repre hen derit in voluptate velit esse cillum dolore eu fugiat nulla pariatur cepteur sint occaecat cupidatat eaque ipsa quae illo proident sunt in culpa qui officia deserunt mollit anim id est laborum perspiciatis unde omnis iste natus error sit voluptatem accusantium dolore laudant rem aperiam eaque ipsa quae ab illo inventore veritatis quasi architecto. \nDolor sit amet consectetur elit sed do eiusmod tempor incd idunt labore et dolore magna aliqua enim ad minim veniam quis nostrud exercitation ullamco laboris nisi ut aliquip exea commodo consequat.duis aute irure dolor in reprehen derit in voluptate velit esse cillum dolore eu fugiat nulla pariatur cepteur sint occaecat cupidatat. \nEvolution of user Interface\n\nMultiple Announcements during the event.\nLogo & company details on the WordCamp Kolkata.\nDedicated blog post thanking each of our Gold.\nAcknowledgment and thanks in opening and closing.\n\nDolor sit amet consectetur elit sed do eiusmod tempor incd idunt labore et dolore magna aliqua enim ad minim veniam quis nostrud exercitation ullamco laboris nisi ut aliquip exea commodo consequat.duis aute irure dolor in repre hen derit in voluptate velit esse cillum dolore eu fugiat nulla pariatur cepteur sint occaecat cupidatat eaque ipsa quae illo proident sunt in culpa qui officia deserunt mollit anim id est laborum perspiciatis unde omnis iste natus error sit voluptatem accusantium dolore laudant rem aperiam eaque ipsa quae ab illo inventore veritatis quasi architecto.
URL:https://afrik-rire.com/event/modern-marketing-summit-sydney-2/
CATEGORIES:Our Events
ATTACH;FMTTYPE=image/jpeg:https://afrik-rire.com/wp-content/uploads/2023/05/event.jpg
END:VEVENT
BEGIN:VEVENT
DTSTART;TZID=UTC:20241215T140000
DTEND;TZID=UTC:20241225T170000
DTSTAMP:20260423T121642
CREATED:20230504T182123Z
LAST-MODIFIED:20230504T182123Z
UID:486-1734271200-1735146000@afrik-rire.com
SUMMARY:Introduction About Speakers
DESCRIPTION:Dolor sit amet consectetur elit sed do eiusmod tempor incd idunt labore et dolore magna aliqua enim ad minim veniam quis nostrud exercitation ullamco laboris nisi ut aliquip exea commodo consequat.duis aute irure dolor in repre hen derit in voluptate velit esse cillum dolore eu fugiat nulla pariatur cepteur sint occaecat cupidatat eaque ipsa quae illo proident sunt in culpa qui officia deserunt mollit anim id est laborum perspiciatis unde omnis iste natus error sit voluptatem accusantium dolore laudant rem aperiam eaque ipsa quae ab illo inventore veritatis quasi architecto. \nDolor sit amet consectetur elit sed do eiusmod tempor incd idunt labore et dolore magna aliqua enim ad minim veniam quis nostrud exercitation ullamco laboris nisi ut aliquip exea commodo consequat.duis aute irure dolor in reprehen derit in voluptate velit esse cillum dolore eu fugiat nulla pariatur cepteur sint occaecat cupidatat. \nEvolution of user Interface\n\nMultiple Announcements during the event.\nLogo & company details on the WordCamp Kolkata.\nDedicated blog post thanking each of our Gold.\nAcknowledgment and thanks in opening and closing.\n\nDolor sit amet consectetur elit sed do eiusmod tempor incd idunt labore et dolore magna aliqua enim ad minim veniam quis nostrud exercitation ullamco laboris nisi ut aliquip exea commodo consequat.duis aute irure dolor in repre hen derit in voluptate velit esse cillum dolore eu fugiat nulla pariatur cepteur sint occaecat cupidatat eaque ipsa quae illo proident sunt in culpa qui officia deserunt mollit anim id est laborum perspiciatis unde omnis iste natus error sit voluptatem accusantium dolore laudant rem aperiam eaque ipsa quae ab illo inventore veritatis quasi architecto.
URL:https://afrik-rire.com/event/introduction-about-speakers/
CATEGORIES:Our Events
ATTACH;FMTTYPE=image/jpeg:https://afrik-rire.com/wp-content/uploads/2023/05/event.jpg
END:VEVENT
BEGIN:VEVENT
DTSTART;TZID=UTC:20241211T140000
DTEND;TZID=UTC:20241211T170000
DTSTAMP:20260423T121642
CREATED:20230504T194809Z
LAST-MODIFIED:20230504T194809Z
UID:517-1733925600-1733936400@afrik-rire.com
SUMMARY:Accueil Life Open Entryway Occasion
DESCRIPTION:Dolor sit amet consectetur elit sed do eiusmod tempor incd idunt labore et dolore magna aliqua enim ad minim veniam quis nostrud exercitation ullamco laboris nisi ut aliquip exea commodo consequat.duis aute irure dolor in repre hen derit in voluptate velit esse cillum dolore eu fugiat nulla pariatur cepteur sint occaecat cupidatat eaque ipsa quae illo proident sunt in culpa qui officia deserunt mollit anim id est laborum perspiciatis unde omnis iste natus error sit voluptatem accusantium dolore laudant rem aperiam eaque ipsa quae ab illo inventore veritatis quasi architecto. \nDolor sit amet consectetur elit sed do eiusmod tempor incd idunt labore et dolore magna aliqua enim ad minim veniam quis nostrud exercitation ullamco laboris nisi ut aliquip exea commodo consequat.duis aute irure dolor in reprehen derit in voluptate velit esse cillum dolore eu fugiat nulla pariatur cepteur sint occaecat cupidatat. \nEvolution of user Interface\n\nMultiple Announcements during the event.\nLogo & company details on the WordCamp Kolkata.\nDedicated blog post thanking each of our Gold.\nAcknowledgment and thanks in opening and closing.\n\nDolor sit amet consectetur elit sed do eiusmod tempor incd idunt labore et dolore magna aliqua enim ad minim veniam quis nostrud exercitation ullamco laboris nisi ut aliquip exea commodo consequat.duis aute irure dolor in repre hen derit in voluptate velit esse cillum dolore eu fugiat nulla pariatur cepteur sint occaecat cupidatat eaque ipsa quae illo proident sunt in culpa qui officia deserunt mollit anim id est laborum perspiciatis unde omnis iste natus error sit voluptatem accusantium dolore laudant rem aperiam eaque ipsa quae ab illo inventore veritatis quasi architecto.
URL:https://afrik-rire.com/event/home-life-open-entryway-occasion/
CATEGORIES:Our Events
ATTACH;FMTTYPE=image/jpeg:https://afrik-rire.com/wp-content/uploads/2023/05/event.jpg
END:VEVENT
BEGIN:VEVENT
DTSTART;TZID=UTC:20241207T140000
DTEND;TZID=UTC:20241207T170000
DTSTAMP:20260423T121642
CREATED:20230505T165644Z
LAST-MODIFIED:20230505T165644Z
UID:916-1733580000-1733590800@afrik-rire.com
SUMMARY:Introduction About Speakers
DESCRIPTION:Dolor sit amet consectetur elit sed do eiusmod tempor incd idunt labore et dolore magna aliqua enim ad minim veniam quis nostrud exercitation ullamco laboris nisi ut aliquip exea commodo consequat.duis aute irure dolor in repre hen derit in voluptate velit esse cillum dolore eu fugiat nulla pariatur cepteur sint occaecat cupidatat eaque ipsa quae illo proident sunt in culpa qui officia deserunt mollit anim id est laborum perspiciatis unde omnis iste natus error sit voluptatem accusantium dolore laudant rem aperiam eaque ipsa quae ab illo inventore veritatis quasi architecto. \nDolor sit amet consectetur elit sed do eiusmod tempor incd idunt labore et dolore magna aliqua enim ad minim veniam quis nostrud exercitation ullamco laboris nisi ut aliquip exea commodo consequat.duis aute irure dolor in reprehen derit in voluptate velit esse cillum dolore eu fugiat nulla pariatur cepteur sint occaecat cupidatat. \nEvolution of user Interface\n\nMultiple Announcements during the event.\nLogo & company details on the WordCamp Kolkata.\nDedicated blog post thanking each of our Gold.\nAcknowledgment and thanks in opening and closing.\n\nDolor sit amet consectetur elit sed do eiusmod tempor incd idunt labore et dolore magna aliqua enim ad minim veniam quis nostrud exercitation ullamco laboris nisi ut aliquip exea commodo consequat.duis aute irure dolor in repre hen derit in voluptate velit esse cillum dolore eu fugiat nulla pariatur cepteur sint occaecat cupidatat eaque ipsa quae illo proident sunt in culpa qui officia deserunt mollit anim id est laborum perspiciatis unde omnis iste natus error sit voluptatem accusantium dolore laudant rem aperiam eaque ipsa quae ab illo inventore veritatis quasi architecto.
URL:https://afrik-rire.com/event/introduction-about-speakers-2/
CATEGORIES:Our Events
ATTACH;FMTTYPE=image/jpeg:https://afrik-rire.com/wp-content/uploads/2023/05/event.jpg
END:VEVENT
BEGIN:VEVENT
DTSTART;TZID=UTC:20241203T140000
DTEND;TZID=UTC:20241203T170000
DTSTAMP:20260423T121642
CREATED:20230505T165647Z
LAST-MODIFIED:20230607T200014Z
UID:917-1733234400-1733245200@afrik-rire.com
SUMMARY:Accueil Life Open Entryway Occasion
DESCRIPTION:Dolor sit amet consectetur elit sed do eiusmod tempor incd idunt labore et dolore magna aliqua enim ad minim veniam quis nostrud exercitation ullamco laboris nisi ut aliquip exea commodo consequat.duis aute irure dolor in repre hen derit in voluptate velit esse cillum dolore eu fugiat nulla pariatur cepteur sint occaecat cupidatat eaque ipsa quae illo proident sunt in culpa qui officia deserunt mollit anim id est laborum perspiciatis unde omnis iste natus error sit voluptatem accusantium dolore laudant rem aperiam eaque ipsa quae ab illo inventore veritatis quasi architecto. \nDolor sit amet consectetur elit sed do eiusmod tempor incd idunt labore et dolore magna aliqua enim ad minim veniam quis nostrud exercitation ullamco laboris nisi ut aliquip exea commodo consequat.duis aute irure dolor in reprehen derit in voluptate velit esse cillum dolore eu fugiat nulla pariatur cepteur sint occaecat cupidatat. \nEvolution of user Interface\n\nMultiple Announcements during the event.\nLogo & company details on the WordCamp Kolkata.\nDedicated blog post thanking each of our Gold.\nAcknowledgment and thanks in opening and closing.\n\n \nDolor sit amet consectetur elit sed do eiusmod tempor incd idunt labore et dolore magna aliqua enim ad minim veniam quis nostrud exercitation ullamco laboris nisi ut aliquip exea commodo consequat.duis aute irure dolor in repre hen derit in voluptate velit esse cillum dolore eu fugiat nulla pariatur cepteur sint occaecat cupidatat eaque ipsa quae illo proident sunt in culpa qui officia deserunt mollit anim id est laborum perspiciatis unde omnis iste natus error sit voluptatem accusantium dolore laudant rem aperiam eaque ipsa quae ab illo inventore veritatis quasi architecto.
URL:https://afrik-rire.com/event/home-life-open-entryway-occasion-2/
CATEGORIES:Our Events
ATTACH;FMTTYPE=image/jpeg:https://afrik-rire.com/wp-content/uploads/2023/05/event.jpg
END:VEVENT
BEGIN:VEVENT
DTSTART;TZID=UTC:20241201T090000
DTEND;TZID=UTC:20241201T150000
DTSTAMP:20260423T121642
CREATED:20230503T100606Z
LAST-MODIFIED:20230503T100606Z
UID:435-1733043600-1733065200@afrik-rire.com
SUMMARY:Registration For Opening Workshop
DESCRIPTION:Dolor sit amet consectetur elit sed do eiusmod tempor incd idunt labore et dolore magna aliqua enim ad minim veniam quis nostrud exercitation ullamco laboris nisi ut aliquip exea commodo consequat.duis aute irure dolor in repre hen derit in voluptate velit esse cillum dolore eu fugiat nulla pariatur cepteur sint occaecat cupidatat eaque ipsa quae illo proident sunt in culpa qui officia deserunt mollit anim id est laborum perspiciatis unde omnis iste natus error sit voluptatem accusantium dolore laudant rem aperiam eaque ipsa quae ab illo inventore veritatis quasi architecto. \nDolor sit amet consectetur elit sed do eiusmod tempor incd idunt labore et dolore magna aliqua enim ad minim veniam quis nostrud exercitation ullamco laboris nisi ut aliquip exea commodo consequat.duis aute irure dolor in reprehen derit in voluptate velit esse cillum dolore eu fugiat nulla pariatur cepteur sint occaecat cupidatat. \nEvolution of user Interface\n\nMultiple Announcements during the event.\nLogo & company details on the WordCamp Kolkata.\nDedicated blog post thanking each of our Gold.\nAcknowledgment and thanks in opening and closing.\n\nDolor sit amet consectetur elit sed do eiusmod tempor incd idunt labore et dolore magna aliqua enim ad minim veniam quis nostrud exercitation ullamco laboris nisi ut aliquip exea commodo consequat.duis aute irure dolor in repre hen derit in voluptate velit esse cillum dolore eu fugiat nulla pariatur cepteur sint occaecat cupidatat eaque ipsa quae illo proident sunt in culpa qui officia deserunt mollit anim id est laborum perspiciatis unde omnis iste natus error sit voluptatem accusantium dolore laudant rem aperiam eaque ipsa quae ab illo inventore veritatis quasi architecto.
URL:https://afrik-rire.com/event/registration-for-opening-workshop/
LOCATION:Hall 1\, Building\, Golden Street \, Southafrica\, Hall 1\, Building\, Golden Street\, South Africa
CATEGORIES:Our Events
ATTACH;FMTTYPE=image/jpeg:https://afrik-rire.com/wp-content/uploads/2023/05/event.jpg
END:VEVENT
BEGIN:VEVENT
DTSTART;VALUE=DATE:20230929
DTEND;VALUE=DATE:20231002
DTSTAMP:20260423T121642
CREATED:20230609T122505Z
LAST-MODIFIED:20230615T201127Z
UID:1515-1695945600-1696204799@afrik-rire.com
SUMMARY:6ème édition 2023
DESCRIPTION:
URL:https://afrik-rire.com/event/6eme-edition-2023/
LOCATION:Centre des Arts de l’Ecole International de Génève Rte de chême 62-1208 Génève\, Rte de chêne 62-1208 Génève\, Génèves\, Suisse
CATEGORIES:2023
ATTACH;FMTTYPE=image/png:https://afrik-rire.com/wp-content/uploads/2023/06/programmation.png
END:VEVENT
END:VCALENDAR